BEGIN:VCALENDAR
VERSION:2.0
PRODID:-//Smart Dog Training Center - ECPv6.15.20//NONSGML v1.0//EN
CALSCALE:GREGORIAN
METHOD:PUBLISH
X-WR-CALNAME:Smart Dog Training Center
X-ORIGINAL-URL:https://smartdogtrainingcenter.com
X-WR-CALDESC:Events for Smart Dog Training Center
REFRESH-INTERVAL;VALUE=DURATION:PT1H
X-Robots-Tag:noindex
X-PUBLISHED-TTL:PT1H
BEGIN:VTIMEZONE
TZID:America/Chicago
BEGIN:DAYLIGHT
TZOFFSETFROM:-0600
TZOFFSETTO:-0500
TZNAME:CDT
DTSTART:20240310T080000
END:DAYLIGHT
BEGIN:STANDARD
TZOFFSETFROM:-0500
TZOFFSETTO:-0600
TZNAME:CST
DTSTART:20241103T070000
END:STANDARD
BEGIN:DAYLIGHT
TZOFFSETFROM:-0600
TZOFFSETTO:-0500
TZNAME:CDT
DTSTART:20250309T080000
END:DAYLIGHT
BEGIN:STANDARD
TZOFFSETFROM:-0500
TZOFFSETTO:-0600
TZNAME:CST
DTSTART:20251102T070000
END:STANDARD
BEGIN:DAYLIGHT
TZOFFSETFROM:-0600
TZOFFSETTO:-0500
TZNAME:CDT
DTSTART:20260308T080000
END:DAYLIGHT
BEGIN:STANDARD
TZOFFSETFROM:-0500
TZOFFSETTO:-0600
TZNAME:CST
DTSTART:20261101T070000
END:STANDARD
END:VTIMEZONE
BEGIN:VEVENT
DTSTART;TZID=America/Chicago:20250903T090000
DTEND;TZID=America/Chicago:20250903T100000
DTSTAMP:20260423T133613
CREATED:20250123T181012Z
LAST-MODIFIED:20250823T201114Z
UID:10008635-1756890000-1756893600@smartdogtrainingcenter.com
SUMMARY:Nosework Puzzle Class 9-10am (W)
DESCRIPTION:Nosework Puzzle Class \nFor more information and/or to register\, please contact Denise McClure or Pat Roddy.
URL:https://smartdogtrainingcenter.com/event/nosework-puzzle-class-3/2025-09-03/
END:VEVENT
BEGIN:VEVENT
DTSTART;TZID=America/Chicago:20250903T101500
DTEND;TZID=America/Chicago:20250903T111500
DTSTAMP:20260423T133613
CREATED:20250123T181245Z
LAST-MODIFIED:20250823T201034Z
UID:10008562-1756894500-1756898100@smartdogtrainingcenter.com
SUMMARY:Nosework Puzzle Class 10:15am (W)
DESCRIPTION:Nosework Puzzle Class \nFor more information and/or to register\, please contact Denise McClure or Pat Roddy.
URL:https://smartdogtrainingcenter.com/event/nosework-puzzle-class-4/2025-09-03/
END:VEVENT
BEGIN:VEVENT
DTSTART;TZID=America/Chicago:20250903T113000
DTEND;TZID=America/Chicago:20250903T123000
DTSTAMP:20260423T133613
CREATED:20250123T181414Z
LAST-MODIFIED:20250823T200924Z
UID:10008489-1756899000-1756902600@smartdogtrainingcenter.com
SUMMARY:Nosework Puzzle Class 11:30am (W)
DESCRIPTION:Nosework Puzzle Class \nFor more information and/or to register\, please contact Denise McClure or Pat Roddy.
URL:https://smartdogtrainingcenter.com/event/nosework-puzzle-class-1130am-3/2025-09-03/
END:VEVENT
BEGIN:VEVENT
DTSTART;TZID=America/Chicago:20250903T130000
DTEND;TZID=America/Chicago:20250903T140000
DTSTAMP:20260423T133613
CREATED:20250124T004456Z
LAST-MODIFIED:20250823T200701Z
UID:10008367-1756904400-1756908000@smartdogtrainingcenter.com
SUMMARY:Nosework Puzzle Class 1pm (W)
DESCRIPTION:Nosework Puzzle Class \nFor more information and or to register\, please contact Denise McClure or Pat Roddy.
URL:https://smartdogtrainingcenter.com/event/nosework-puzzle-class-1pm-w/2025-09-03/
END:VEVENT
BEGIN:VEVENT
DTSTART;TZID=America/Chicago:20250903T191500
DTEND;TZID=America/Chicago:20250903T201500
DTSTAMP:20260423T133613
CREATED:20250629T220620Z
LAST-MODIFIED:20250823T195628Z
UID:10008037-1756926900-1756930500@smartdogtrainingcenter.com
SUMMARY:Nosework Pre-puzzle class 7:15p (W)
DESCRIPTION:Nosework Pre-Puzzle Class \nFor more information and/or to sign up for the class\, please contact Denise McClure or Pat Roddy.
URL:https://smartdogtrainingcenter.com/event/nosework-pre-puzzle-class-715p-w-2/2025-09-03/
END:VEVENT
BEGIN:VEVENT
DTSTART;TZID=America/Chicago:20250903T193000
DTEND;TZID=America/Chicago:20250903T210000
DTSTAMP:20260423T133613
CREATED:20250123T182612Z
LAST-MODIFIED:20260123T221635Z
UID:10008440-1756927800-1756933200@smartdogtrainingcenter.com
SUMMARY:Conformation Class B Weiner
DESCRIPTION:Conformation Class \nFor more information and/or to register\, please contact Barbara Weiner.
URL:https://smartdogtrainingcenter.com/event/conformation-class-b-weiner-2/2025-09-03/
END:VEVENT
END:VCALENDAR