BEGIN:VCALENDAR
VERSION:2.0
PRODID:-//Smart Dog Training Center - ECPv6.15.20//NONSGML v1.0//EN
CALSCALE:GREGORIAN
METHOD:PUBLISH
X-ORIGINAL-URL:https://smartdogtrainingcenter.com
X-WR-CALDESC:Events for Smart Dog Training Center
REFRESH-INTERVAL;VALUE=DURATION:PT1H
X-Robots-Tag:noindex
X-PUBLISHED-TTL:PT1H
BEGIN:VTIMEZONE
TZID:America/Chicago
BEGIN:DAYLIGHT
TZOFFSETFROM:-0600
TZOFFSETTO:-0500
TZNAME:CDT
DTSTART:20240310T080000
END:DAYLIGHT
BEGIN:STANDARD
TZOFFSETFROM:-0500
TZOFFSETTO:-0600
TZNAME:CST
DTSTART:20241103T070000
END:STANDARD
BEGIN:DAYLIGHT
TZOFFSETFROM:-0600
TZOFFSETTO:-0500
TZNAME:CDT
DTSTART:20250309T080000
END:DAYLIGHT
BEGIN:STANDARD
TZOFFSETFROM:-0500
TZOFFSETTO:-0600
TZNAME:CST
DTSTART:20251102T070000
END:STANDARD
BEGIN:DAYLIGHT
TZOFFSETFROM:-0600
TZOFFSETTO:-0500
TZNAME:CDT
DTSTART:20260308T080000
END:DAYLIGHT
BEGIN:STANDARD
TZOFFSETFROM:-0500
TZOFFSETTO:-0600
TZNAME:CST
DTSTART:20261101T070000
END:STANDARD
END:VTIMEZONE
BEGIN:VEVENT
DTSTART;TZID=America/Chicago:20250919T083000
DTEND;TZID=America/Chicago:20250919T093000
DTSTAMP:20260423T133627
CREATED:20250116T212027Z
LAST-MODIFIED:20250116T212028Z
UID:10007108-1758270600-1758274200@smartdogtrainingcenter.com
SUMMARY:Private Training PP
DESCRIPTION:Private Training
URL:https://smartdogtrainingcenter.com/event/private-training-pp-2/2025-09-19/
END:VEVENT
BEGIN:VEVENT
DTSTART;TZID=America/Chicago:20250919T120000
DTEND;TZID=America/Chicago:20250919T140000
DTSTAMP:20260423T133627
CREATED:20240807T205702Z
LAST-MODIFIED:20250123T183339Z
UID:10006301-1758283200-1758290400@smartdogtrainingcenter.com
SUMMARY:Private Training Freestyle Rally
DESCRIPTION:Contact Carolyn Tan 832-563-0000 for more information and/or to register for the class.
URL:https://smartdogtrainingcenter.com/event/private-training-freestyle-rally-2/2025-09-19/
END:VEVENT
BEGIN:VEVENT
DTSTART;TZID=America/Chicago:20250919T143000
DTEND;TZID=America/Chicago:20250919T153000
DTSTAMP:20260423T133627
CREATED:20240117T233638Z
LAST-MODIFIED:20240117T233730Z
UID:10005672-1758292200-1758295800@smartdogtrainingcenter.com
SUMMARY:Private Training (CC/LL)
DESCRIPTION:For information on Private Training\, contact Sandy White \n 
URL:https://smartdogtrainingcenter.com/event/private-training-cc-ll/2025-09-19/
END:VEVENT
BEGIN:VEVENT
DTSTART;TZID=America/Chicago:20250919T180000
DTEND;TZID=America/Chicago:20250919T200000
DTSTAMP:20260423T133627
CREATED:20250122T235307Z
LAST-MODIFIED:20250124T005829Z
UID:10008907-1758304800-1758312000@smartdogtrainingcenter.com
SUMMARY:Private training (SD)
DESCRIPTION:Private training Sherry Dahly. \nFor more information or to schedule a private lesson\, please contact Sherry Dahly.
URL:https://smartdogtrainingcenter.com/event/private-training-sd-2/2025-09-19/
END:VEVENT
END:VCALENDAR