BEGIN:VCALENDAR
VERSION:2.0
PRODID:-//Smart Dog Training Center - ECPv6.15.20//NONSGML v1.0//EN
CALSCALE:GREGORIAN
METHOD:PUBLISH
X-ORIGINAL-URL:https://smartdogtrainingcenter.com
X-WR-CALDESC:Events for Smart Dog Training Center
REFRESH-INTERVAL;VALUE=DURATION:PT1H
X-Robots-Tag:noindex
X-PUBLISHED-TTL:PT1H
BEGIN:VTIMEZONE
TZID:America/Chicago
BEGIN:DAYLIGHT
TZOFFSETFROM:-0600
TZOFFSETTO:-0500
TZNAME:CDT
DTSTART:20240310T080000
END:DAYLIGHT
BEGIN:STANDARD
TZOFFSETFROM:-0500
TZOFFSETTO:-0600
TZNAME:CST
DTSTART:20241103T070000
END:STANDARD
BEGIN:DAYLIGHT
TZOFFSETFROM:-0600
TZOFFSETTO:-0500
TZNAME:CDT
DTSTART:20250309T080000
END:DAYLIGHT
BEGIN:STANDARD
TZOFFSETFROM:-0500
TZOFFSETTO:-0600
TZNAME:CST
DTSTART:20251102T070000
END:STANDARD
BEGIN:DAYLIGHT
TZOFFSETFROM:-0600
TZOFFSETTO:-0500
TZNAME:CDT
DTSTART:20260308T080000
END:DAYLIGHT
BEGIN:STANDARD
TZOFFSETFROM:-0500
TZOFFSETTO:-0600
TZNAME:CST
DTSTART:20261101T070000
END:STANDARD
END:VTIMEZONE
BEGIN:VEVENT
DTSTART;TZID=America/Chicago:20251103T083000
DTEND;TZID=America/Chicago:20251103T100000
DTSTAMP:20260423T104511
CREATED:20250122T225848Z
LAST-MODIFIED:20250823T202714Z
UID:10009300-1762158600-1762164000@smartdogtrainingcenter.com
SUMMARY:Private Training (AL)
DESCRIPTION:
URL:https://smartdogtrainingcenter.com/event/private-training-2-3/2025-11-03/
END:VEVENT
BEGIN:VEVENT
DTSTART;TZID=America/Chicago:20251103T100000
DTEND;TZID=America/Chicago:20251103T110000
DTSTAMP:20260423T104512
CREATED:20250122T234433Z
LAST-MODIFIED:20250122T234433Z
UID:10007587-1762164000-1762167600@smartdogtrainingcenter.com
SUMMARY:Private Training SP
DESCRIPTION:
URL:https://smartdogtrainingcenter.com/event/private-training-sp/2025-11-03/
END:VEVENT
BEGIN:VEVENT
DTSTART;TZID=America/Chicago:20251103T170000
DTEND;TZID=America/Chicago:20251103T180000
DTSTAMP:20260423T104512
CREATED:20251016T001404Z
LAST-MODIFIED:20251016T001404Z
UID:10009585-1762189200-1762192800@smartdogtrainingcenter.com
SUMMARY:Puppy Class
DESCRIPTION:Teach your puppy to be around other dogs\, obstacles and other basic manners.  To sign up go to www.campjan.com and register. \nFor more information contact Jan Nuzzo at 832-483-2286.
URL:https://smartdogtrainingcenter.com/event/puppy-class/2025-11-03/
END:VEVENT
BEGIN:VEVENT
DTSTART;TZID=America/Chicago:20251103T180000
DTEND;TZID=America/Chicago:20251103T190000
DTSTAMP:20260423T104512
CREATED:20251016T001743Z
LAST-MODIFIED:20251016T001743Z
UID:10009590-1762192800-1762196400@smartdogtrainingcenter.com
SUMMARY:Canine Good Citizen and Trick class
DESCRIPTION:A Canine Good Citizen title is good to have on your dog as it shows they have manners.  This class will teach and prepare you for this title. \nTo register go to www.campjan.com and complete the registration form.  For more information\, contact Jan Nuzzo 832-483-2286.
URL:https://smartdogtrainingcenter.com/event/canine-good-citizen-and-trick-class/2025-11-03/
END:VEVENT
BEGIN:VEVENT
DTSTART;TZID=America/Chicago:20251103T180000
DTEND;TZID=America/Chicago:20251103T200000
DTSTAMP:20260423T104512
CREATED:20250123T000620Z
LAST-MODIFIED:20250124T005720Z
UID:10008864-1762192800-1762200000@smartdogtrainingcenter.com
SUMMARY:Basic and Advanced Rally KT
DESCRIPTION:What is  AKC Rally competition \nFor more information and/or to sign up\, contact the instructor directly:   Kym Thomas.
URL:https://smartdogtrainingcenter.com/event/advanced-rally-2-2/2025-11-03/
END:VEVENT
BEGIN:VEVENT
DTSTART;TZID=America/Chicago:20251103T190000
DTEND;TZID=America/Chicago:20251103T220000
DTSTAMP:20260423T104512
CREATED:20250124T011510Z
LAST-MODIFIED:20250124T011543Z
UID:10009014-1762196400-1762207200@smartdogtrainingcenter.com
SUMMARY:Obedience Class (CW)
DESCRIPTION:For more information and/or to sign up\, please contact the instructor Carolyn White \nWhat is obedience class \n 
URL:https://smartdogtrainingcenter.com/event/obedience-class-2-2/2025-11-03/
END:VEVENT
END:VCALENDAR