BEGIN:VCALENDAR
VERSION:2.0
PRODID:-//Smart Dog Training Center - ECPv6.15.20//NONSGML v1.0//EN
CALSCALE:GREGORIAN
METHOD:PUBLISH
X-WR-CALNAME:Smart Dog Training Center
X-ORIGINAL-URL:https://smartdogtrainingcenter.com
X-WR-CALDESC:Events for Smart Dog Training Center
REFRESH-INTERVAL;VALUE=DURATION:PT1H
X-Robots-Tag:noindex
X-PUBLISHED-TTL:PT1H
BEGIN:VTIMEZONE
TZID:America/Chicago
BEGIN:DAYLIGHT
TZOFFSETFROM:-0600
TZOFFSETTO:-0500
TZNAME:CDT
DTSTART:20240310T080000
END:DAYLIGHT
BEGIN:STANDARD
TZOFFSETFROM:-0500
TZOFFSETTO:-0600
TZNAME:CST
DTSTART:20241103T070000
END:STANDARD
BEGIN:DAYLIGHT
TZOFFSETFROM:-0600
TZOFFSETTO:-0500
TZNAME:CDT
DTSTART:20250309T080000
END:DAYLIGHT
BEGIN:STANDARD
TZOFFSETFROM:-0500
TZOFFSETTO:-0600
TZNAME:CST
DTSTART:20251102T070000
END:STANDARD
BEGIN:DAYLIGHT
TZOFFSETFROM:-0600
TZOFFSETTO:-0500
TZNAME:CDT
DTSTART:20260308T080000
END:DAYLIGHT
BEGIN:STANDARD
TZOFFSETFROM:-0500
TZOFFSETTO:-0600
TZNAME:CST
DTSTART:20261101T070000
END:STANDARD
END:VTIMEZONE
BEGIN:VEVENT
DTSTART;TZID=America/Chicago:20251209T153000
DTEND;TZID=America/Chicago:20251209T183000
DTSTAMP:20260423T091248
CREATED:20250123T182445Z
LAST-MODIFIED:20250123T182445Z
UID:10008007-1765294200-1765305000@smartdogtrainingcenter.com
SUMMARY:Private Training (SC)
DESCRIPTION:
URL:https://smartdogtrainingcenter.com/event/private-training-sc/2025-12-09/
END:VEVENT
BEGIN:VEVENT
DTSTART;TZID=America/Chicago:20251209T180000
DTEND;TZID=America/Chicago:20251209T213000
DTSTAMP:20260423T091248
CREATED:20250123T182929Z
LAST-MODIFIED:20250124T005534Z
UID:10008771-1765303200-1765315800@smartdogtrainingcenter.com
SUMMARY:Agility Advanced KB-KW
DESCRIPTION:What is Canine Agility Classes? \nFor additional information and/or sign up\, contact Kathy Brady \n 
URL:https://smartdogtrainingcenter.com/event/agility-basic-advanced-kb-kw-2/2025-12-09/
END:VEVENT
BEGIN:VEVENT
DTSTART;TZID=America/Chicago:20251209T193000
DTEND;TZID=America/Chicago:20251209T203000
DTSTAMP:20260423T091249
CREATED:20250123T183617Z
LAST-MODIFIED:20260123T221832Z
UID:10008722-1765308600-1765312200@smartdogtrainingcenter.com
SUMMARY:Conformation Class SD
DESCRIPTION:What is:  Conformation \nFor more information and/or to sign up\, please contact the instructor directly:  Sherry Dahly \n 
URL:https://smartdogtrainingcenter.com/event/conformation-class-2-2/2025-12-09/
END:VEVENT
BEGIN:VEVENT
DTSTART;TZID=America/Chicago:20251209T193000
DTEND;TZID=America/Chicago:20251209T210000
DTSTAMP:20260423T091249
CREATED:20240918T203254Z
LAST-MODIFIED:20250123T175410Z
UID:10007764-1765308600-1765314000@smartdogtrainingcenter.com
SUMMARY:Obedience Class (SW)
DESCRIPTION:Building on the beginner level of obedience training for competition \nFor more information and/or registration please contact Sandy White s_white
URL:https://smartdogtrainingcenter.com/event/obedience-class-sw/2025-12-09/
END:VEVENT
END:VCALENDAR