BEGIN:VCALENDAR
VERSION:2.0
PRODID:-//Smart Dog Training Center - ECPv6.15.20//NONSGML v1.0//EN
CALSCALE:GREGORIAN
METHOD:PUBLISH
X-WR-CALNAME:Smart Dog Training Center
X-ORIGINAL-URL:https://smartdogtrainingcenter.com
X-WR-CALDESC:Events for Smart Dog Training Center
REFRESH-INTERVAL;VALUE=DURATION:PT1H
X-Robots-Tag:noindex
X-PUBLISHED-TTL:PT1H
BEGIN:VTIMEZONE
TZID:America/Chicago
BEGIN:DAYLIGHT
TZOFFSETFROM:-0600
TZOFFSETTO:-0500
TZNAME:CDT
DTSTART:20250309T080000
END:DAYLIGHT
BEGIN:STANDARD
TZOFFSETFROM:-0500
TZOFFSETTO:-0600
TZNAME:CST
DTSTART:20251102T070000
END:STANDARD
BEGIN:DAYLIGHT
TZOFFSETFROM:-0600
TZOFFSETTO:-0500
TZNAME:CDT
DTSTART:20260308T080000
END:DAYLIGHT
BEGIN:STANDARD
TZOFFSETFROM:-0500
TZOFFSETTO:-0600
TZNAME:CST
DTSTART:20261101T070000
END:STANDARD
BEGIN:DAYLIGHT
TZOFFSETFROM:-0600
TZOFFSETTO:-0500
TZNAME:CDT
DTSTART:20270314T080000
END:DAYLIGHT
BEGIN:STANDARD
TZOFFSETFROM:-0500
TZOFFSETTO:-0600
TZNAME:CST
DTSTART:20271107T070000
END:STANDARD
END:VTIMEZONE
BEGIN:VEVENT
DTSTART;TZID=America/Chicago:20260219T093000
DTEND;TZID=America/Chicago:20260219T123000
DTSTAMP:20260423T062541
CREATED:20251230T205752Z
LAST-MODIFIED:20251230T205752Z
UID:10010721-1771493400-1771504200@smartdogtrainingcenter.com
SUMMARY:Obedience Class-all levels (LO)
DESCRIPTION:What are obedience classes?Advanced Obedience Classes \nContact Liz Outlaw to sign up and for additional information
URL:https://smartdogtrainingcenter.com/event/obedience-class-all-levels-lo-2-2-2/2026-02-19/
END:VEVENT
BEGIN:VEVENT
DTSTART;TZID=America/Chicago:20260219T130000
DTEND;TZID=America/Chicago:20260219T150000
DTSTAMP:20260423T062541
CREATED:20251230T202903Z
LAST-MODIFIED:20251230T202904Z
UID:10006794-1771506000-1771513200@smartdogtrainingcenter.com
SUMMARY:Private Training CW JR
DESCRIPTION:Private Training
URL:https://smartdogtrainingcenter.com/event/private-training-cw-jr-2-2/2026-02-19/
END:VEVENT
BEGIN:VEVENT
DTSTART;TZID=America/Chicago:20260219T190000
DTEND;TZID=America/Chicago:20260219T200000
DTSTAMP:20260423T062541
CREATED:20251228T172856Z
LAST-MODIFIED:20251230T203031Z
UID:10009740-1771527600-1771531200@smartdogtrainingcenter.com
SUMMARY:Nosework Puzzle Class 7pm (T)
DESCRIPTION:Nosework Puzzle Class \nFor more information and/or to register for the class\, please contact Denise McClure or Pat Roddy.
URL:https://smartdogtrainingcenter.com/event/nosework-foundations-6pm-2-2/2026-02-19/
END:VEVENT
BEGIN:VEVENT
DTSTART;TZID=America/Chicago:20260219T201500
DTEND;TZID=America/Chicago:20260219T211500
DTSTAMP:20260423T062541
CREATED:20251228T173817Z
LAST-MODIFIED:20251230T203442Z
UID:10009782-1771532100-1771535700@smartdogtrainingcenter.com
SUMMARY:Nosework Puzzle Class 8:15pm (T)
DESCRIPTION:Nosework Puzzle Class \nFor more information and/or to register\, please contact Denise McClure or Pat Roddy
URL:https://smartdogtrainingcenter.com/event/nosework-puzzle-class-2-2-2-2/2026-02-19/
END:VEVENT
END:VCALENDAR