BEGIN:VCALENDAR
VERSION:2.0
PRODID:-//Smart Dog Training Center - ECPv6.15.20//NONSGML v1.0//EN
CALSCALE:GREGORIAN
METHOD:PUBLISH
X-ORIGINAL-URL:https://smartdogtrainingcenter.com
X-WR-CALDESC:Events for Smart Dog Training Center
REFRESH-INTERVAL;VALUE=DURATION:PT1H
X-Robots-Tag:noindex
X-PUBLISHED-TTL:PT1H
BEGIN:VTIMEZONE
TZID:America/Chicago
BEGIN:DAYLIGHT
TZOFFSETFROM:-0600
TZOFFSETTO:-0500
TZNAME:CDT
DTSTART:20240310T080000
END:DAYLIGHT
BEGIN:STANDARD
TZOFFSETFROM:-0500
TZOFFSETTO:-0600
TZNAME:CST
DTSTART:20241103T070000
END:STANDARD
BEGIN:DAYLIGHT
TZOFFSETFROM:-0600
TZOFFSETTO:-0500
TZNAME:CDT
DTSTART:20250309T080000
END:DAYLIGHT
BEGIN:STANDARD
TZOFFSETFROM:-0500
TZOFFSETTO:-0600
TZNAME:CST
DTSTART:20251102T070000
END:STANDARD
BEGIN:DAYLIGHT
TZOFFSETFROM:-0600
TZOFFSETTO:-0500
TZNAME:CDT
DTSTART:20260308T080000
END:DAYLIGHT
BEGIN:STANDARD
TZOFFSETFROM:-0500
TZOFFSETTO:-0600
TZNAME:CST
DTSTART:20261101T070000
END:STANDARD
END:VTIMEZONE
BEGIN:VEVENT
DTSTART;TZID=America/Chicago:20251012T103000
DTEND;TZID=America/Chicago:20251012T120000
DTSTAMP:20260423T133953
CREATED:20250123T001034Z
LAST-MODIFIED:20250123T184013Z
UID:10007851-1760265000-1760270400@smartdogtrainingcenter.com
SUMMARY:Advanced Rally KT
DESCRIPTION:Learn the rally basics and advanced levels.  What is rally? \nContact Kym Thomas to sign up and/or register for the class.
URL:https://smartdogtrainingcenter.com/event/advanced-rally-kt/2025-10-12/
END:VEVENT
BEGIN:VEVENT
DTSTART;TZID=America/Chicago:20251013T083000
DTEND;TZID=America/Chicago:20251013T100000
DTSTAMP:20260423T133953
CREATED:20250122T225848Z
LAST-MODIFIED:20250823T202714Z
UID:10009297-1760344200-1760349600@smartdogtrainingcenter.com
SUMMARY:Private Training (AL)
DESCRIPTION:
URL:https://smartdogtrainingcenter.com/event/private-training-2-3/2025-10-13/
END:VEVENT
BEGIN:VEVENT
DTSTART;TZID=America/Chicago:20251013T100000
DTEND;TZID=America/Chicago:20251013T110000
DTSTAMP:20260423T133953
CREATED:20250122T234433Z
LAST-MODIFIED:20250122T234433Z
UID:10007584-1760349600-1760353200@smartdogtrainingcenter.com
SUMMARY:Private Training SP
DESCRIPTION:
URL:https://smartdogtrainingcenter.com/event/private-training-sp/2025-10-13/
END:VEVENT
BEGIN:VEVENT
DTSTART;TZID=America/Chicago:20251013T180000
DTEND;TZID=America/Chicago:20251013T190000
DTSTAMP:20260423T133953
CREATED:20250822T230300Z
LAST-MODIFIED:20250822T230300Z
UID:10009258-1760378400-1760382000@smartdogtrainingcenter.com
SUMMARY:Beyond Puppy and Onto Advanced
DESCRIPTION:Beyond Puppy and Onto Advanced is great for dogs that have accomplished a puppy class and you want to increase their skills.
URL:https://smartdogtrainingcenter.com/event/beyond-puppy-and-onto-advanced/2025-10-13/
LOCATION:Smart Dog Training Center\, 910 Curtin\, Houston\, TX\, 77018
END:VEVENT
BEGIN:VEVENT
DTSTART;TZID=America/Chicago:20251013T180000
DTEND;TZID=America/Chicago:20251013T200000
DTSTAMP:20260423T133953
CREATED:20250123T000620Z
LAST-MODIFIED:20250124T005720Z
UID:10008861-1760378400-1760385600@smartdogtrainingcenter.com
SUMMARY:Basic and Advanced Rally KT
DESCRIPTION:What is  AKC Rally competition \nFor more information and/or to sign up\, contact the instructor directly:   Kym Thomas.
URL:https://smartdogtrainingcenter.com/event/advanced-rally-2-2/2025-10-13/
END:VEVENT
BEGIN:VEVENT
DTSTART;TZID=America/Chicago:20251013T190000
DTEND;TZID=America/Chicago:20251013T220000
DTSTAMP:20260423T133953
CREATED:20250124T011510Z
LAST-MODIFIED:20250124T011543Z
UID:10009011-1760382000-1760392800@smartdogtrainingcenter.com
SUMMARY:Obedience Class (CW)
DESCRIPTION:For more information and/or to sign up\, please contact the instructor Carolyn White \nWhat is obedience class \n 
URL:https://smartdogtrainingcenter.com/event/obedience-class-2-2/2025-10-13/
END:VEVENT
BEGIN:VEVENT
DTSTART;TZID=America/Chicago:20251014T153000
DTEND;TZID=America/Chicago:20251014T183000
DTSTAMP:20260423T133953
CREATED:20250123T182445Z
LAST-MODIFIED:20250123T182445Z
UID:10007999-1760455800-1760466600@smartdogtrainingcenter.com
SUMMARY:Private Training (SC)
DESCRIPTION:
URL:https://smartdogtrainingcenter.com/event/private-training-sc/2025-10-14/
END:VEVENT
BEGIN:VEVENT
DTSTART;TZID=America/Chicago:20251014T180000
DTEND;TZID=America/Chicago:20251014T213000
DTSTAMP:20260423T133953
CREATED:20250123T182929Z
LAST-MODIFIED:20250124T005534Z
UID:10008763-1760464800-1760477400@smartdogtrainingcenter.com
SUMMARY:Agility Advanced KB-KW
DESCRIPTION:What is Canine Agility Classes? \nFor additional information and/or sign up\, contact Kathy Brady \n 
URL:https://smartdogtrainingcenter.com/event/agility-basic-advanced-kb-kw-2/2025-10-14/
END:VEVENT
BEGIN:VEVENT
DTSTART;TZID=America/Chicago:20251014T193000
DTEND;TZID=America/Chicago:20251014T203000
DTSTAMP:20260423T133953
CREATED:20250123T183617Z
LAST-MODIFIED:20260123T221832Z
UID:10008714-1760470200-1760473800@smartdogtrainingcenter.com
SUMMARY:Conformation Class SD
DESCRIPTION:What is:  Conformation \nFor more information and/or to sign up\, please contact the instructor directly:  Sherry Dahly \n 
URL:https://smartdogtrainingcenter.com/event/conformation-class-2-2/2025-10-14/
END:VEVENT
BEGIN:VEVENT
DTSTART;TZID=America/Chicago:20251014T193000
DTEND;TZID=America/Chicago:20251014T210000
DTSTAMP:20260423T133953
CREATED:20240918T203254Z
LAST-MODIFIED:20250123T175410Z
UID:10007030-1760470200-1760475600@smartdogtrainingcenter.com
SUMMARY:Obedience Class (SW)
DESCRIPTION:Building on the beginner level of obedience training for competition \nFor more information and/or registration please contact Sandy White s_white
URL:https://smartdogtrainingcenter.com/event/obedience-class-sw/2025-10-14/
END:VEVENT
BEGIN:VEVENT
DTSTART;TZID=America/Chicago:20251015T090000
DTEND;TZID=America/Chicago:20251015T100000
DTSTAMP:20260423T133953
CREATED:20250123T181012Z
LAST-MODIFIED:20250823T201114Z
UID:10008641-1760518800-1760522400@smartdogtrainingcenter.com
SUMMARY:Nosework Puzzle Class 9-10am (W)
DESCRIPTION:Nosework Puzzle Class \nFor more information and/or to register\, please contact Denise McClure or Pat Roddy.
URL:https://smartdogtrainingcenter.com/event/nosework-puzzle-class-3/2025-10-15/
END:VEVENT
BEGIN:VEVENT
DTSTART;TZID=America/Chicago:20251015T101500
DTEND;TZID=America/Chicago:20251015T111500
DTSTAMP:20260423T133953
CREATED:20250123T181245Z
LAST-MODIFIED:20250823T201034Z
UID:10008568-1760523300-1760526900@smartdogtrainingcenter.com
SUMMARY:Nosework Puzzle Class 10:15am (W)
DESCRIPTION:Nosework Puzzle Class \nFor more information and/or to register\, please contact Denise McClure or Pat Roddy.
URL:https://smartdogtrainingcenter.com/event/nosework-puzzle-class-4/2025-10-15/
END:VEVENT
BEGIN:VEVENT
DTSTART;TZID=America/Chicago:20251015T113000
DTEND;TZID=America/Chicago:20251015T123000
DTSTAMP:20260423T133953
CREATED:20250123T181414Z
LAST-MODIFIED:20250823T200924Z
UID:10008495-1760527800-1760531400@smartdogtrainingcenter.com
SUMMARY:Nosework Puzzle Class 11:30am (W)
DESCRIPTION:Nosework Puzzle Class \nFor more information and/or to register\, please contact Denise McClure or Pat Roddy.
URL:https://smartdogtrainingcenter.com/event/nosework-puzzle-class-1130am-3/2025-10-15/
END:VEVENT
BEGIN:VEVENT
DTSTART;TZID=America/Chicago:20251015T130000
DTEND;TZID=America/Chicago:20251015T140000
DTSTAMP:20260423T133953
CREATED:20250124T004456Z
LAST-MODIFIED:20250823T200701Z
UID:10008373-1760533200-1760536800@smartdogtrainingcenter.com
SUMMARY:Nosework Puzzle Class 1pm (W)
DESCRIPTION:Nosework Puzzle Class \nFor more information and or to register\, please contact Denise McClure or Pat Roddy.
URL:https://smartdogtrainingcenter.com/event/nosework-puzzle-class-1pm-w/2025-10-15/
END:VEVENT
BEGIN:VEVENT
DTSTART;TZID=America/Chicago:20251015T191500
DTEND;TZID=America/Chicago:20251015T201500
DTSTAMP:20260423T133953
CREATED:20250629T220620Z
LAST-MODIFIED:20250823T195628Z
UID:10008052-1760555700-1760559300@smartdogtrainingcenter.com
SUMMARY:Nosework Pre-puzzle class 7:15p (W)
DESCRIPTION:Nosework Pre-Puzzle Class \nFor more information and/or to sign up for the class\, please contact Denise McClure or Pat Roddy.
URL:https://smartdogtrainingcenter.com/event/nosework-pre-puzzle-class-715p-w-2/2025-10-15/
END:VEVENT
BEGIN:VEVENT
DTSTART;TZID=America/Chicago:20251015T193000
DTEND;TZID=America/Chicago:20251015T210000
DTSTAMP:20260423T133953
CREATED:20250123T182612Z
LAST-MODIFIED:20260123T221635Z
UID:10008446-1760556600-1760562000@smartdogtrainingcenter.com
SUMMARY:Conformation Class B Weiner
DESCRIPTION:Conformation Class \nFor more information and/or to register\, please contact Barbara Weiner.
URL:https://smartdogtrainingcenter.com/event/conformation-class-b-weiner-2/2025-10-15/
END:VEVENT
BEGIN:VEVENT
DTSTART;TZID=America/Chicago:20251016T093000
DTEND;TZID=America/Chicago:20251016T123000
DTSTAMP:20260423T133953
CREATED:20240918T202853Z
LAST-MODIFIED:20250123T000322Z
UID:10007804-1760607000-1760617800@smartdogtrainingcenter.com
SUMMARY:Obedience Class-all levels (LO)
DESCRIPTION:What are obedience classes?Advanced Obedience Classes \nContact Liz Outlawl_outlaw to sign up and for additional information
URL:https://smartdogtrainingcenter.com/event/obedience-class-all-levels-lo-2-2/2025-10-16/
END:VEVENT
BEGIN:VEVENT
DTSTART;TZID=America/Chicago:20251016T130000
DTEND;TZID=America/Chicago:20251016T150000
DTSTAMP:20260423T133953
CREATED:20240828T145839Z
LAST-MODIFIED:20240828T145840Z
UID:10006776-1760619600-1760626800@smartdogtrainingcenter.com
SUMMARY:Private Training CW JR
DESCRIPTION:Private Training
URL:https://smartdogtrainingcenter.com/event/private-training-cw-jr-2/2025-10-16/
END:VEVENT
BEGIN:VEVENT
DTSTART;TZID=America/Chicago:20251016T190000
DTEND;TZID=America/Chicago:20251016T200000
DTSTAMP:20260423T133953
CREATED:20250123T174908Z
LAST-MODIFIED:20250823T202917Z
UID:10009566-1760641200-1760644800@smartdogtrainingcenter.com
SUMMARY:Nosework Puzzle 7pm (T)
DESCRIPTION:Nosework Foundations \nFor more information and/or to register for the class\, please contact Denise McClure or Pat Roddy.
URL:https://smartdogtrainingcenter.com/event/nosework-foundations-6pm-2/2025-10-16/
END:VEVENT
BEGIN:VEVENT
DTSTART;TZID=America/Chicago:20251017T083000
DTEND;TZID=America/Chicago:20251017T093000
DTSTAMP:20260423T133953
CREATED:20250116T212027Z
LAST-MODIFIED:20250116T212028Z
UID:10007112-1760689800-1760693400@smartdogtrainingcenter.com
SUMMARY:Private Training PP
DESCRIPTION:Private Training
URL:https://smartdogtrainingcenter.com/event/private-training-pp-2/2025-10-17/
END:VEVENT
BEGIN:VEVENT
DTSTART;TZID=America/Chicago:20251017T143000
DTEND;TZID=America/Chicago:20251017T153000
DTSTAMP:20260423T133953
CREATED:20240117T233638Z
LAST-MODIFIED:20240117T233730Z
UID:10005676-1760711400-1760715000@smartdogtrainingcenter.com
SUMMARY:Private Training (CC/LL)
DESCRIPTION:For information on Private Training\, contact Sandy White \n 
URL:https://smartdogtrainingcenter.com/event/private-training-cc-ll/2025-10-17/
END:VEVENT
BEGIN:VEVENT
DTSTART;TZID=America/Chicago:20251017T180000
DTEND;TZID=America/Chicago:20251017T200000
DTSTAMP:20260423T133953
CREATED:20250122T235307Z
LAST-MODIFIED:20250124T005829Z
UID:10008911-1760724000-1760731200@smartdogtrainingcenter.com
SUMMARY:Private training (SD)
DESCRIPTION:Private training Sherry Dahly. \nFor more information or to schedule a private lesson\, please contact Sherry Dahly.
URL:https://smartdogtrainingcenter.com/event/private-training-sd-2/2025-10-17/
END:VEVENT
BEGIN:VEVENT
DTSTART;TZID=America/Chicago:20251018T170000
DTEND;TZID=America/Chicago:20251018T190000
DTSTAMP:20260423T133954
CREATED:20250123T181909Z
LAST-MODIFIED:20250123T181909Z
UID:10007951-1760806800-1760814000@smartdogtrainingcenter.com
SUMMARY:Private Training (SL)
DESCRIPTION:
URL:https://smartdogtrainingcenter.com/event/private-training-sl/2025-10-18/
END:VEVENT
BEGIN:VEVENT
DTSTART;TZID=America/Chicago:20251019T103000
DTEND;TZID=America/Chicago:20251019T120000
DTSTAMP:20260423T133954
CREATED:20250123T001034Z
LAST-MODIFIED:20250123T184013Z
UID:10007852-1760869800-1760875200@smartdogtrainingcenter.com
SUMMARY:Advanced Rally KT
DESCRIPTION:Learn the rally basics and advanced levels.  What is rally? \nContact Kym Thomas to sign up and/or register for the class.
URL:https://smartdogtrainingcenter.com/event/advanced-rally-kt/2025-10-19/
END:VEVENT
BEGIN:VEVENT
DTSTART;TZID=America/Chicago:20251020T083000
DTEND;TZID=America/Chicago:20251020T100000
DTSTAMP:20260423T133954
CREATED:20250122T225848Z
LAST-MODIFIED:20250823T202714Z
UID:10009298-1760949000-1760954400@smartdogtrainingcenter.com
SUMMARY:Private Training (AL)
DESCRIPTION:
URL:https://smartdogtrainingcenter.com/event/private-training-2-3/2025-10-20/
END:VEVENT
BEGIN:VEVENT
DTSTART;TZID=America/Chicago:20251020T100000
DTEND;TZID=America/Chicago:20251020T110000
DTSTAMP:20260423T133954
CREATED:20250122T234433Z
LAST-MODIFIED:20250122T234433Z
UID:10007585-1760954400-1760958000@smartdogtrainingcenter.com
SUMMARY:Private Training SP
DESCRIPTION:
URL:https://smartdogtrainingcenter.com/event/private-training-sp/2025-10-20/
END:VEVENT
BEGIN:VEVENT
DTSTART;TZID=America/Chicago:20251020T170000
DTEND;TZID=America/Chicago:20251020T180000
DTSTAMP:20260423T133954
CREATED:20251016T001404Z
LAST-MODIFIED:20251016T001404Z
UID:10009583-1760979600-1760983200@smartdogtrainingcenter.com
SUMMARY:Puppy Class
DESCRIPTION:Teach your puppy to be around other dogs\, obstacles and other basic manners.  To sign up go to www.campjan.com and register. \nFor more information contact Jan Nuzzo at 832-483-2286.
URL:https://smartdogtrainingcenter.com/event/puppy-class/2025-10-20/
END:VEVENT
BEGIN:VEVENT
DTSTART;TZID=America/Chicago:20251020T180000
DTEND;TZID=America/Chicago:20251020T190000
DTSTAMP:20260423T133954
CREATED:20251016T001743Z
LAST-MODIFIED:20251016T001743Z
UID:10009588-1760983200-1760986800@smartdogtrainingcenter.com
SUMMARY:Canine Good Citizen and Trick class
DESCRIPTION:A Canine Good Citizen title is good to have on your dog as it shows they have manners.  This class will teach and prepare you for this title. \nTo register go to www.campjan.com and complete the registration form.  For more information\, contact Jan Nuzzo 832-483-2286.
URL:https://smartdogtrainingcenter.com/event/canine-good-citizen-and-trick-class/2025-10-20/
END:VEVENT
BEGIN:VEVENT
DTSTART;TZID=America/Chicago:20251020T180000
DTEND;TZID=America/Chicago:20251020T200000
DTSTAMP:20260423T133954
CREATED:20250123T000620Z
LAST-MODIFIED:20250124T005720Z
UID:10008862-1760983200-1760990400@smartdogtrainingcenter.com
SUMMARY:Basic and Advanced Rally KT
DESCRIPTION:What is  AKC Rally competition \nFor more information and/or to sign up\, contact the instructor directly:   Kym Thomas.
URL:https://smartdogtrainingcenter.com/event/advanced-rally-2-2/2025-10-20/
END:VEVENT
BEGIN:VEVENT
DTSTART;TZID=America/Chicago:20251020T190000
DTEND;TZID=America/Chicago:20251020T220000
DTSTAMP:20260423T133954
CREATED:20250124T011510Z
LAST-MODIFIED:20250124T011543Z
UID:10009012-1760986800-1760997600@smartdogtrainingcenter.com
SUMMARY:Obedience Class (CW)
DESCRIPTION:For more information and/or to sign up\, please contact the instructor Carolyn White \nWhat is obedience class \n 
URL:https://smartdogtrainingcenter.com/event/obedience-class-2-2/2025-10-20/
END:VEVENT
END:VCALENDAR