BEGIN:VCALENDAR
VERSION:2.0
PRODID:-//Smart Dog Training Center - ECPv6.15.20//NONSGML v1.0//EN
CALSCALE:GREGORIAN
METHOD:PUBLISH
X-ORIGINAL-URL:https://smartdogtrainingcenter.com
X-WR-CALDESC:Events for Smart Dog Training Center
REFRESH-INTERVAL;VALUE=DURATION:PT1H
X-Robots-Tag:noindex
X-PUBLISHED-TTL:PT1H
BEGIN:VTIMEZONE
TZID:America/Chicago
BEGIN:DAYLIGHT
TZOFFSETFROM:-0600
TZOFFSETTO:-0500
TZNAME:CDT
DTSTART:20240310T080000
END:DAYLIGHT
BEGIN:STANDARD
TZOFFSETFROM:-0500
TZOFFSETTO:-0600
TZNAME:CST
DTSTART:20241103T070000
END:STANDARD
BEGIN:DAYLIGHT
TZOFFSETFROM:-0600
TZOFFSETTO:-0500
TZNAME:CDT
DTSTART:20250309T080000
END:DAYLIGHT
BEGIN:STANDARD
TZOFFSETFROM:-0500
TZOFFSETTO:-0600
TZNAME:CST
DTSTART:20251102T070000
END:STANDARD
BEGIN:DAYLIGHT
TZOFFSETFROM:-0600
TZOFFSETTO:-0500
TZNAME:CDT
DTSTART:20260308T080000
END:DAYLIGHT
BEGIN:STANDARD
TZOFFSETFROM:-0500
TZOFFSETTO:-0600
TZNAME:CST
DTSTART:20261101T070000
END:STANDARD
END:VTIMEZONE
BEGIN:VEVENT
DTSTART;TZID=America/Chicago:20251124T083000
DTEND;TZID=America/Chicago:20251124T100000
DTSTAMP:20260423T120749
CREATED:20250122T225848Z
LAST-MODIFIED:20250823T202714Z
UID:10009303-1763973000-1763978400@smartdogtrainingcenter.com
SUMMARY:Private Training (AL)
DESCRIPTION:
URL:https://smartdogtrainingcenter.com/event/private-training-2-3/2025-11-24/
END:VEVENT
BEGIN:VEVENT
DTSTART;TZID=America/Chicago:20251124T100000
DTEND;TZID=America/Chicago:20251124T110000
DTSTAMP:20260423T120749
CREATED:20250122T234433Z
LAST-MODIFIED:20250122T234433Z
UID:10007590-1763978400-1763982000@smartdogtrainingcenter.com
SUMMARY:Private Training SP
DESCRIPTION:
URL:https://smartdogtrainingcenter.com/event/private-training-sp/2025-11-24/
END:VEVENT
BEGIN:VEVENT
DTSTART;TZID=America/Chicago:20251124T180000
DTEND;TZID=America/Chicago:20251124T200000
DTSTAMP:20260423T120749
CREATED:20250123T000620Z
LAST-MODIFIED:20250124T005720Z
UID:10008867-1764007200-1764014400@smartdogtrainingcenter.com
SUMMARY:Basic and Advanced Rally KT
DESCRIPTION:What is  AKC Rally competition \nFor more information and/or to sign up\, contact the instructor directly:   Kym Thomas.
URL:https://smartdogtrainingcenter.com/event/advanced-rally-2-2/2025-11-24/
END:VEVENT
BEGIN:VEVENT
DTSTART;TZID=America/Chicago:20251124T190000
DTEND;TZID=America/Chicago:20251124T220000
DTSTAMP:20260423T120749
CREATED:20250124T011510Z
LAST-MODIFIED:20250124T011543Z
UID:10009017-1764010800-1764021600@smartdogtrainingcenter.com
SUMMARY:Obedience Class (CW)
DESCRIPTION:For more information and/or to sign up\, please contact the instructor Carolyn White \nWhat is obedience class \n 
URL:https://smartdogtrainingcenter.com/event/obedience-class-2-2/2025-11-24/
END:VEVENT
BEGIN:VEVENT
DTSTART;TZID=America/Chicago:20251125T153000
DTEND;TZID=America/Chicago:20251125T183000
DTSTAMP:20260423T120749
CREATED:20250123T182445Z
LAST-MODIFIED:20250123T182445Z
UID:10008005-1764084600-1764095400@smartdogtrainingcenter.com
SUMMARY:Private Training (SC)
DESCRIPTION:
URL:https://smartdogtrainingcenter.com/event/private-training-sc/2025-11-25/
END:VEVENT
BEGIN:VEVENT
DTSTART;TZID=America/Chicago:20251125T180000
DTEND;TZID=America/Chicago:20251125T213000
DTSTAMP:20260423T120749
CREATED:20250123T182929Z
LAST-MODIFIED:20250124T005534Z
UID:10008769-1764093600-1764106200@smartdogtrainingcenter.com
SUMMARY:Agility Advanced KB-KW
DESCRIPTION:What is Canine Agility Classes? \nFor additional information and/or sign up\, contact Kathy Brady \n 
URL:https://smartdogtrainingcenter.com/event/agility-basic-advanced-kb-kw-2/2025-11-25/
END:VEVENT
BEGIN:VEVENT
DTSTART;TZID=America/Chicago:20251125T193000
DTEND;TZID=America/Chicago:20251125T203000
DTSTAMP:20260423T120749
CREATED:20250123T183617Z
LAST-MODIFIED:20260123T221832Z
UID:10008720-1764099000-1764102600@smartdogtrainingcenter.com
SUMMARY:Conformation Class SD
DESCRIPTION:What is:  Conformation \nFor more information and/or to sign up\, please contact the instructor directly:  Sherry Dahly \n 
URL:https://smartdogtrainingcenter.com/event/conformation-class-2-2/2025-11-25/
END:VEVENT
BEGIN:VEVENT
DTSTART;TZID=America/Chicago:20251125T193000
DTEND;TZID=America/Chicago:20251125T210000
DTSTAMP:20260423T120749
CREATED:20240918T203254Z
LAST-MODIFIED:20250123T175410Z
UID:10007762-1764099000-1764104400@smartdogtrainingcenter.com
SUMMARY:Obedience Class (SW)
DESCRIPTION:Building on the beginner level of obedience training for competition \nFor more information and/or registration please contact Sandy White s_white
URL:https://smartdogtrainingcenter.com/event/obedience-class-sw/2025-11-25/
END:VEVENT
BEGIN:VEVENT
DTSTART;TZID=America/Chicago:20251126T193000
DTEND;TZID=America/Chicago:20251126T210000
DTSTAMP:20260423T120749
CREATED:20250123T182612Z
LAST-MODIFIED:20260123T221635Z
UID:10008452-1764185400-1764190800@smartdogtrainingcenter.com
SUMMARY:Conformation Class B Weiner
DESCRIPTION:Conformation Class \nFor more information and/or to register\, please contact Barbara Weiner.
URL:https://smartdogtrainingcenter.com/event/conformation-class-b-weiner-2/2025-11-26/
END:VEVENT
BEGIN:VEVENT
DTSTART;TZID=America/Chicago:20251127T093000
DTEND;TZID=America/Chicago:20251127T123000
DTSTAMP:20260423T120749
CREATED:20240918T202853Z
LAST-MODIFIED:20250123T000322Z
UID:10007810-1764235800-1764246600@smartdogtrainingcenter.com
SUMMARY:Obedience Class-all levels (LO)
DESCRIPTION:What are obedience classes?Advanced Obedience Classes \nContact Liz Outlawl_outlaw to sign up and for additional information
URL:https://smartdogtrainingcenter.com/event/obedience-class-all-levels-lo-2-2/2025-11-27/
END:VEVENT
BEGIN:VEVENT
DTSTART;TZID=America/Chicago:20251127T130000
DTEND;TZID=America/Chicago:20251127T150000
DTSTAMP:20260423T120749
CREATED:20240828T145839Z
LAST-MODIFIED:20240828T145840Z
UID:10006782-1764248400-1764255600@smartdogtrainingcenter.com
SUMMARY:Private Training CW JR
DESCRIPTION:Private Training
URL:https://smartdogtrainingcenter.com/event/private-training-cw-jr-2/2025-11-27/
END:VEVENT
BEGIN:VEVENT
DTSTART;TZID=America/Chicago:20251128T083000
DTEND;TZID=America/Chicago:20251128T093000
DTSTAMP:20260423T120749
CREATED:20250116T212027Z
LAST-MODIFIED:20250116T212028Z
UID:10007118-1764318600-1764322200@smartdogtrainingcenter.com
SUMMARY:Private Training PP
DESCRIPTION:Private Training
URL:https://smartdogtrainingcenter.com/event/private-training-pp-2/2025-11-28/
END:VEVENT
BEGIN:VEVENT
DTSTART;TZID=America/Chicago:20251128T143000
DTEND;TZID=America/Chicago:20251128T153000
DTSTAMP:20260423T120749
CREATED:20240117T233638Z
LAST-MODIFIED:20240117T233730Z
UID:10005682-1764340200-1764343800@smartdogtrainingcenter.com
SUMMARY:Private Training (CC/LL)
DESCRIPTION:For information on Private Training\, contact Sandy White \n 
URL:https://smartdogtrainingcenter.com/event/private-training-cc-ll/2025-11-28/
END:VEVENT
BEGIN:VEVENT
DTSTART;TZID=America/Chicago:20251128T180000
DTEND;TZID=America/Chicago:20251128T200000
DTSTAMP:20260423T120749
CREATED:20250122T235307Z
LAST-MODIFIED:20250124T005829Z
UID:10008917-1764352800-1764360000@smartdogtrainingcenter.com
SUMMARY:Private training (SD)
DESCRIPTION:Private training Sherry Dahly. \nFor more information or to schedule a private lesson\, please contact Sherry Dahly.
URL:https://smartdogtrainingcenter.com/event/private-training-sd-2/2025-11-28/
END:VEVENT
BEGIN:VEVENT
DTSTART;TZID=America/Chicago:20251129T170000
DTEND;TZID=America/Chicago:20251129T190000
DTSTAMP:20260423T120749
CREATED:20250123T181909Z
LAST-MODIFIED:20250123T181909Z
UID:10007957-1764435600-1764442800@smartdogtrainingcenter.com
SUMMARY:Private Training (SL)
DESCRIPTION:
URL:https://smartdogtrainingcenter.com/event/private-training-sl/2025-11-29/
END:VEVENT
BEGIN:VEVENT
DTSTART;TZID=America/Chicago:20251201T083000
DTEND;TZID=America/Chicago:20251201T100000
DTSTAMP:20260423T120749
CREATED:20250122T225848Z
LAST-MODIFIED:20250823T202714Z
UID:10009304-1764577800-1764583200@smartdogtrainingcenter.com
SUMMARY:Private Training (AL)
DESCRIPTION:
URL:https://smartdogtrainingcenter.com/event/private-training-2-3/2025-12-01/
END:VEVENT
BEGIN:VEVENT
DTSTART;TZID=America/Chicago:20251201T100000
DTEND;TZID=America/Chicago:20251201T110000
DTSTAMP:20260423T120749
CREATED:20250122T234433Z
LAST-MODIFIED:20250122T234433Z
UID:10007591-1764583200-1764586800@smartdogtrainingcenter.com
SUMMARY:Private Training SP
DESCRIPTION:
URL:https://smartdogtrainingcenter.com/event/private-training-sp/2025-12-01/
END:VEVENT
BEGIN:VEVENT
DTSTART;TZID=America/Chicago:20251201T180000
DTEND;TZID=America/Chicago:20251201T200000
DTSTAMP:20260423T120749
CREATED:20250123T000620Z
LAST-MODIFIED:20250124T005720Z
UID:10008868-1764612000-1764619200@smartdogtrainingcenter.com
SUMMARY:Basic and Advanced Rally KT
DESCRIPTION:What is  AKC Rally competition \nFor more information and/or to sign up\, contact the instructor directly:   Kym Thomas.
URL:https://smartdogtrainingcenter.com/event/advanced-rally-2-2/2025-12-01/
END:VEVENT
BEGIN:VEVENT
DTSTART;TZID=America/Chicago:20251201T190000
DTEND;TZID=America/Chicago:20251201T220000
DTSTAMP:20260423T120749
CREATED:20250124T011510Z
LAST-MODIFIED:20250124T011543Z
UID:10009018-1764615600-1764626400@smartdogtrainingcenter.com
SUMMARY:Obedience Class (CW)
DESCRIPTION:For more information and/or to sign up\, please contact the instructor Carolyn White \nWhat is obedience class \n 
URL:https://smartdogtrainingcenter.com/event/obedience-class-2-2/2025-12-01/
END:VEVENT
BEGIN:VEVENT
DTSTART;TZID=America/Chicago:20251202T153000
DTEND;TZID=America/Chicago:20251202T183000
DTSTAMP:20260423T120749
CREATED:20250123T182445Z
LAST-MODIFIED:20250123T182445Z
UID:10008006-1764689400-1764700200@smartdogtrainingcenter.com
SUMMARY:Private Training (SC)
DESCRIPTION:
URL:https://smartdogtrainingcenter.com/event/private-training-sc/2025-12-02/
END:VEVENT
BEGIN:VEVENT
DTSTART;TZID=America/Chicago:20251202T180000
DTEND;TZID=America/Chicago:20251202T213000
DTSTAMP:20260423T120749
CREATED:20250123T182929Z
LAST-MODIFIED:20250124T005534Z
UID:10008770-1764698400-1764711000@smartdogtrainingcenter.com
SUMMARY:Agility Advanced KB-KW
DESCRIPTION:What is Canine Agility Classes? \nFor additional information and/or sign up\, contact Kathy Brady \n 
URL:https://smartdogtrainingcenter.com/event/agility-basic-advanced-kb-kw-2/2025-12-02/
END:VEVENT
BEGIN:VEVENT
DTSTART;TZID=America/Chicago:20251202T193000
DTEND;TZID=America/Chicago:20251202T203000
DTSTAMP:20260423T120749
CREATED:20250123T183617Z
LAST-MODIFIED:20260123T221832Z
UID:10008721-1764703800-1764707400@smartdogtrainingcenter.com
SUMMARY:Conformation Class SD
DESCRIPTION:What is:  Conformation \nFor more information and/or to sign up\, please contact the instructor directly:  Sherry Dahly \n 
URL:https://smartdogtrainingcenter.com/event/conformation-class-2-2/2025-12-02/
END:VEVENT
BEGIN:VEVENT
DTSTART;TZID=America/Chicago:20251202T193000
DTEND;TZID=America/Chicago:20251202T210000
DTSTAMP:20260423T120749
CREATED:20240918T203254Z
LAST-MODIFIED:20250123T175410Z
UID:10007763-1764703800-1764709200@smartdogtrainingcenter.com
SUMMARY:Obedience Class (SW)
DESCRIPTION:Building on the beginner level of obedience training for competition \nFor more information and/or registration please contact Sandy White s_white
URL:https://smartdogtrainingcenter.com/event/obedience-class-sw/2025-12-02/
END:VEVENT
BEGIN:VEVENT
DTSTART;TZID=America/Chicago:20251203T193000
DTEND;TZID=America/Chicago:20251203T210000
DTSTAMP:20260423T120749
CREATED:20250123T182612Z
LAST-MODIFIED:20260123T221635Z
UID:10008453-1764790200-1764795600@smartdogtrainingcenter.com
SUMMARY:Conformation Class B Weiner
DESCRIPTION:Conformation Class \nFor more information and/or to register\, please contact Barbara Weiner.
URL:https://smartdogtrainingcenter.com/event/conformation-class-b-weiner-2/2025-12-03/
END:VEVENT
BEGIN:VEVENT
DTSTART;TZID=America/Chicago:20251204T130000
DTEND;TZID=America/Chicago:20251204T150000
DTSTAMP:20260423T120749
CREATED:20240828T145839Z
LAST-MODIFIED:20240828T145840Z
UID:10006783-1764853200-1764860400@smartdogtrainingcenter.com
SUMMARY:Private Training CW JR
DESCRIPTION:Private Training
URL:https://smartdogtrainingcenter.com/event/private-training-cw-jr-2/2025-12-04/
END:VEVENT
BEGIN:VEVENT
DTSTART;TZID=America/Chicago:20251205T083000
DTEND;TZID=America/Chicago:20251205T093000
DTSTAMP:20260423T120749
CREATED:20250116T212027Z
LAST-MODIFIED:20250116T212028Z
UID:10007119-1764923400-1764927000@smartdogtrainingcenter.com
SUMMARY:Private Training PP
DESCRIPTION:Private Training
URL:https://smartdogtrainingcenter.com/event/private-training-pp-2/2025-12-05/
END:VEVENT
BEGIN:VEVENT
DTSTART;TZID=America/Chicago:20251205T143000
DTEND;TZID=America/Chicago:20251205T153000
DTSTAMP:20260423T120749
CREATED:20240117T233638Z
LAST-MODIFIED:20240117T233730Z
UID:10005683-1764945000-1764948600@smartdogtrainingcenter.com
SUMMARY:Private Training (CC/LL)
DESCRIPTION:For information on Private Training\, contact Sandy White \n 
URL:https://smartdogtrainingcenter.com/event/private-training-cc-ll/2025-12-05/
END:VEVENT
BEGIN:VEVENT
DTSTART;TZID=America/Chicago:20251205T180000
DTEND;TZID=America/Chicago:20251205T200000
DTSTAMP:20260423T120749
CREATED:20250122T235307Z
LAST-MODIFIED:20250124T005829Z
UID:10008918-1764957600-1764964800@smartdogtrainingcenter.com
SUMMARY:Private training (SD)
DESCRIPTION:Private training Sherry Dahly. \nFor more information or to schedule a private lesson\, please contact Sherry Dahly.
URL:https://smartdogtrainingcenter.com/event/private-training-sd-2/2025-12-05/
END:VEVENT
BEGIN:VEVENT
DTSTART;TZID=America/Chicago:20251206T170000
DTEND;TZID=America/Chicago:20251206T190000
DTSTAMP:20260423T120749
CREATED:20250123T181909Z
LAST-MODIFIED:20250123T181909Z
UID:10007958-1765040400-1765047600@smartdogtrainingcenter.com
SUMMARY:Private Training (SL)
DESCRIPTION:
URL:https://smartdogtrainingcenter.com/event/private-training-sl/2025-12-06/
END:VEVENT
BEGIN:VEVENT
DTSTART;TZID=America/Chicago:20251208T083000
DTEND;TZID=America/Chicago:20251208T100000
DTSTAMP:20260423T120749
CREATED:20250122T225848Z
LAST-MODIFIED:20250823T202714Z
UID:10009305-1765182600-1765188000@smartdogtrainingcenter.com
SUMMARY:Private Training (AL)
DESCRIPTION:
URL:https://smartdogtrainingcenter.com/event/private-training-2-3/2025-12-08/
END:VEVENT
END:VCALENDAR